BEGIN:VCALENDAR
VERSION:2.0
PRODID:-//Brahma Kumaris  Rajkot - ECPv4.9.3.2//NONSGML v1.0//EN
CALSCALE:GREGORIAN
METHOD:PUBLISH
X-WR-CALNAME:Brahma Kumaris  Rajkot
X-ORIGINAL-URL:https://rajkot.bk.ooo
X-WR-CALDESC:Events for Brahma Kumaris  Rajkot
BEGIN:VEVENT
DTSTART;TZID=Asia/Kolkata:20240306T090000
DTEND;TZID=Asia/Kolkata:20240308T200000
DTSTAMP:20260420T053432
CREATED:20240308T121859Z
LAST-MODIFIED:20240329T121938Z
UID:3963-1709715600-1709928000@rajkot.bk.ooo
SUMMARY:Nasha mukt bharat abhiyan_6to8Mar_2024
DESCRIPTION:For three days arranged and opened and run campaign on Nasha Mukt Bharat Abhiyan stall at Happy Village for all visitors. Through this stall got everyone aware on Nasha Mukt and also filled promises in papers by them. Also\, Gave addiction free pamphlets to all by us. \n    #bwg_container1_0 #bwg_container2_0 .bwg-container-0.bwg-standard-thumbnails {      width: 904px;      justify-content: center;              margin-left: auto;        margin-right: auto;              background-color: rgba(255\, 255\, 255\, 0.00);            padding-left: 4px;      padding-top: 4px;      max-width: 100%;            }        #bwg_container1_0 #bwg_container2_0 .bwg-container-0.bwg-standard-thumbnails .bwg-item {      justify-content: flex-start;      max-width: 180px;            width: 180px !important;          }    #bwg_container1_0 #bwg_container2_0 .bwg-container-0.bwg-standard-thumbnails .bwg-item > a {       margin-right: 4px;       margin-bottom: 4px;    }    #bwg_container1_0 #bwg_container2_0 .bwg-container-0.bwg-standard-thumbnails .bwg-item0 {      padding: 0px;      background-color: #FFFFFF;      border: 0px none #CCCCCC;      opacity: 1.00;      border-radius: 0;      box-shadow: 0px 0px 0px #888888;    }    #bwg_container1_0 #bwg_container2_0 .bwg-container-0.bwg-standard-thumbnails .bwg-item1 img {      max-height: none;      max-width: none;      padding: 0 !important;    }        @media only screen and (min-width: 480px) {      #bwg_container1_0 #bwg_container2_0 .bwg-container-0.bwg-standard-thumbnails .bwg-item0 {        transition: all 0.3s ease 0s;-webkit-transition: all 0.3s ease 0s;      }      #bwg_container1_0 #bwg_container2_0 .bwg-container-0.bwg-standard-thumbnails .bwg-item0:hover {        -ms-transform: scale(1.1);        -webkit-transform: scale(1.1);        transform: scale(1.1);      }    }          #bwg_container1_0 #bwg_container2_0 .bwg-container-0.bwg-standard-thumbnails .bwg-item1 {      padding-top: 50%;    }        #bwg_container1_0 #bwg_container2_0 .bwg-container-0.bwg-standard-thumbnails .bwg-title2\,    #bwg_container1_0 #bwg_container2_0 .bwg-container-0.bwg-standard-thumbnails .bwg-ecommerce2 {      color: #CCCCCC;      font-family: segoe ui;      font-size: 16px;      font-weight: bold;      padding: 2px;      text-shadow: 0px 0px 0px #888888;      max-height: 100%;    }    #bwg_container1_0 #bwg_container2_0 .bwg-container-0.bwg-standard-thumbnails .bwg-play-icon2 {      font-size: 32px;    }    #bwg_container1_0 #bwg_container2_0 .bwg-container-0.bwg-standard-thumbnails .bwg-ecommerce2 {      font-size: 19.2px;      color: #CCCCCC;    }                                                                                                                                                                                                                                                                                                                                              /*pagination styles*/      #bwg_container1_0 #bwg_container2_0 .tablenav-pages_0 {      text-align: center;      font-size: 12px;      font-family: segoe ui;      font-weight: bold;      color: #666666;      margin: 6px 0 4px;      display: block;      height: 30px;      line-height: 30px;      }      @media only screen and (max-width : 320px) {      #bwg_container1_0 #bwg_container2_0 .displaying-num_0 {      display: none;      }      }      #bwg_container1_0 #bwg_container2_0 .displaying-num_0 {      font-size: 12px;      font-family: segoe ui;      font-weight: bold;      color: #666666;      margin-right: 10px;      vertical-align: middle;      }      #bwg_container1_0 #bwg_container2_0 .paging-input_0 {      font-size: 12px;      font-family: segoe ui;      font-weight: bold;      color: #666666;      vertical-align: middle;      }      #bwg_container1_0 #bwg_container2_0 .tablenav-pages_0 a.disabled\,      #bwg_container1_0 #bwg_container2_0 .tablenav-pages_0 a.disabled:hover\,      #bwg_container1_0 #bwg_container2_0 .tablenav-pages_0 a.disabled:focus {      cursor: default;      color: rgba(102\, 102\, 102\, 0.5);      }      #bwg_container1_0 #bwg_container2_0 .tablenav-pages_0 a {      cursor: pointer;      font-size: 12px;      font-family: segoe ui;      font-weight: bold;      color: #666666;      text-decoration: none;      padding: 3px 6px;      margin: 0;      border-radius: 0;      border-style: solid;      border-width: 1px;      border-color: #E3E3E3;      background-color: #FFFFFF;      opacity: 1.00;      box-shadow: 0;      transition: all 0.3s ease 0s;-webkit-transition: all 0.3s ease 0s;      }                                                    function spider_page_0(cur\, x\, y\, load_more) {        if (typeof load_more == "undefined") {          var load_more = false;        }        if (jQuery(cur).hasClass('disabled')) {          return false;        }        var items_county_0 = 1;        switch (y) {          case 1:            if (x >= items_county_0) {              document.getElementById('page_number_0').value = items_county_0;            }            else {              document.getElementById('page_number_0').value = x + 1;            }            break;          case 2:            document.getElementById('page_number_0').value = items_county_0;            break;          case -1:            if (x == 1) {              document.getElementById('page_number_0').value = 1;            }            else {              document.getElementById('page_number_0').value = x - 1;            }            break;          case -2:            document.getElementById('page_number_0').value = 1;            break;          default:            document.getElementById('page_number_0').value = 1;        }        bwg_ajax('gal_front_form_0'\, '0'\, 'bwg_thumbnails_0'\, '0'\, ''\, ''\, 0\, ''\, ''\, load_more);      }                jQuery('.first-page-0').on('click'\, function () {              spider_page_0(this\, 1\, -2\, 'numeric');          });          jQuery('.prev-page-0').on('click'\, function () {              spider_page_0(this\, 1\, -1\, 'numeric');              return false;          });          jQuery('.next-page-0').on('click'\, function () {              spider_page_0(this\, 1\, 1\, 'numeric');              return false;          });          jQuery('.last-page-0').on('click'\, function () {              spider_page_0(this\, 1\, 2\, 'numeric');          });            jQuery('.bwg_load_btn_0').on('click'\, function () {          spider_page_0(this\, 1\, 1\, true);          return false;      });                                                  #bwg_container1_0 #bwg_container2_0 #spider_popup_overlay_0 {          background-color: #000000;          opacity: 0.70;          }                                                                jQuery(document).ready(function () {        bwg_main_ready();      });        \n
URL:https://rajkot.bk.ooo/event/nasha-mukt-bharat-abhiyan_6to8mar_2024/
ATTACH;FMTTYPE=image/jpeg:https://rajkot.bk.ooo/wp-content/uploads/sites/61/2024/03/Nasha-mukt-bharat-abhiyan_6to8Mar_2024.jpg
END:VEVENT
BEGIN:VEVENT
DTSTART;TZID=Asia/Kolkata:20240308T120000
DTEND;TZID=Asia/Kolkata:20240308T200000
DTSTAMP:20260420T053432
CREATED:20240308T162510Z
LAST-MODIFIED:20240329T162523Z
UID:4021-1709899200-1709928000@rajkot.bk.ooo
SUMMARY:Shiv Jayanti Mahotsav_8Mar2024
DESCRIPTION:Celebrated Shiv Jayanti Mahotsav. BK sister shared true spiritual Amarkatha to all. Amarnath Shivling darshan was organized. All did Mahaarti. Also\, arranged pradarshani and explained to all. At last\, prasad given to all. \n    #bwg_container1_1 #bwg_container2_1 .bwg-container-1.bwg-standard-thumbnails {      width: 904px;      justify-content: center;              margin-left: auto;        margin-right: auto;              background-color: rgba(255\, 255\, 255\, 0.00);            padding-left: 4px;      padding-top: 4px;      max-width: 100%;            }        #bwg_container1_1 #bwg_container2_1 .bwg-container-1.bwg-standard-thumbnails .bwg-item {      justify-content: flex-start;      max-width: 180px;            width: 180px !important;          }    #bwg_container1_1 #bwg_container2_1 .bwg-container-1.bwg-standard-thumbnails .bwg-item > a {       margin-right: 4px;       margin-bottom: 4px;    }    #bwg_container1_1 #bwg_container2_1 .bwg-container-1.bwg-standard-thumbnails .bwg-item0 {      padding: 0px;      background-color: #FFFFFF;      border: 0px none #CCCCCC;      opacity: 1.00;      border-radius: 0;      box-shadow: 0px 0px 0px #888888;    }    #bwg_container1_1 #bwg_container2_1 .bwg-container-1.bwg-standard-thumbnails .bwg-item1 img {      max-height: none;      max-width: none;      padding: 0 !important;    }        @media only screen and (min-width: 480px) {      #bwg_container1_1 #bwg_container2_1 .bwg-container-1.bwg-standard-thumbnails .bwg-item0 {        transition: all 0.3s ease 0s;-webkit-transition: all 0.3s ease 0s;      }      #bwg_container1_1 #bwg_container2_1 .bwg-container-1.bwg-standard-thumbnails .bwg-item0:hover {        -ms-transform: scale(1.1);        -webkit-transform: scale(1.1);        transform: scale(1.1);      }    }          #bwg_container1_1 #bwg_container2_1 .bwg-container-1.bwg-standard-thumbnails .bwg-item1 {      padding-top: 50%;    }        #bwg_container1_1 #bwg_container2_1 .bwg-container-1.bwg-standard-thumbnails .bwg-title2\,    #bwg_container1_1 #bwg_container2_1 .bwg-container-1.bwg-standard-thumbnails .bwg-ecommerce2 {      color: #CCCCCC;      font-family: segoe ui;      font-size: 16px;      font-weight: bold;      padding: 2px;      text-shadow: 0px 0px 0px #888888;      max-height: 100%;    }    #bwg_container1_1 #bwg_container2_1 .bwg-container-1.bwg-standard-thumbnails .bwg-play-icon2 {      font-size: 32px;    }    #bwg_container1_1 #bwg_container2_1 .bwg-container-1.bwg-standard-thumbnails .bwg-ecommerce2 {      font-size: 19.2px;      color: #CCCCCC;    }                                                                                                                                                                                                                                                                                                                                                                                                                                                                                                                                                                                                                                                                                                                                                                                                                                                                                                                                                                /*pagination styles*/      #bwg_container1_1 #bwg_container2_1 .tablenav-pages_1 {      text-align: center;      font-size: 12px;      font-family: segoe ui;      font-weight: bold;      color: #666666;      margin: 6px 0 4px;      display: block;      height: 30px;      line-height: 30px;      }      @media only screen and (max-width : 320px) {      #bwg_container1_1 #bwg_container2_1 .displaying-num_1 {      display: none;      }      }      #bwg_container1_1 #bwg_container2_1 .displaying-num_1 {      font-size: 12px;      font-family: segoe ui;      font-weight: bold;      color: #666666;      margin-right: 10px;      vertical-align: middle;      }      #bwg_container1_1 #bwg_container2_1 .paging-input_1 {      font-size: 12px;      font-family: segoe ui;      font-weight: bold;      color: #666666;      vertical-align: middle;      }      #bwg_container1_1 #bwg_container2_1 .tablenav-pages_1 a.disabled\,      #bwg_container1_1 #bwg_container2_1 .tablenav-pages_1 a.disabled:hover\,      #bwg_container1_1 #bwg_container2_1 .tablenav-pages_1 a.disabled:focus {      cursor: default;      color: rgba(102\, 102\, 102\, 0.5);      }      #bwg_container1_1 #bwg_container2_1 .tablenav-pages_1 a {      cursor: pointer;      font-size: 12px;      font-family: segoe ui;      font-weight: bold;      color: #666666;      text-decoration: none;      padding: 3px 6px;      margin: 0;      border-radius: 0;      border-style: solid;      border-width: 1px;      border-color: #E3E3E3;      background-color: #FFFFFF;      opacity: 1.00;      box-shadow: 0;      transition: all 0.3s ease 0s;-webkit-transition: all 0.3s ease 0s;      }                                                    function spider_page_1(cur\, x\, y\, load_more) {        if (typeof load_more == "undefined") {          var load_more = false;        }        if (jQuery(cur).hasClass('disabled')) {          return false;        }        var items_county_1 = 1;        switch (y) {          case 1:            if (x >= items_county_1) {              document.getElementById('page_number_1').value = items_county_1;            }            else {              document.getElementById('page_number_1').value = x + 1;            }            break;          case 2:            document.getElementById('page_number_1').value = items_county_1;            break;          case -1:            if (x == 1) {              document.getElementById('page_number_1').value = 1;            }            else {              document.getElementById('page_number_1').value = x - 1;            }            break;          case -2:            document.getElementById('page_number_1').value = 1;            break;          default:            document.getElementById('page_number_1').value = 1;        }        bwg_ajax('gal_front_form_1'\, '1'\, 'bwg_thumbnails_1'\, '0'\, ''\, ''\, 0\, ''\, ''\, load_more);      }                jQuery('.first-page-1').on('click'\, function () {              spider_page_1(this\, 1\, -2\, 'numeric');          });          jQuery('.prev-page-1').on('click'\, function () {              spider_page_1(this\, 1\, -1\, 'numeric');              return false;          });          jQuery('.next-page-1').on('click'\, function () {              spider_page_1(this\, 1\, 1\, 'numeric');              return false;          });          jQuery('.last-page-1').on('click'\, function () {              spider_page_1(this\, 1\, 2\, 'numeric');          });            jQuery('.bwg_load_btn_1').on('click'\, function () {          spider_page_1(this\, 1\, 1\, true);          return false;      });                                                  #bwg_container1_1 #bwg_container2_1 #spider_popup_overlay_1 {          background-color: #000000;          opacity: 0.70;          }                                                                jQuery(document).ready(function () {        bwg_main_ready();      });        \n
URL:https://rajkot.bk.ooo/event/shiv-jayanti-mahotsav_8mar2024/
ATTACH;FMTTYPE=image/jpeg:https://rajkot.bk.ooo/wp-content/uploads/sites/61/2024/03/Shiv-Jayanti-Mahotsav_8Mar2024.jpg
END:VEVENT
BEGIN:VEVENT
DTSTART;TZID=Asia/Kolkata:20240308T170000
DTEND;TZID=Asia/Kolkata:20240308T200000
DTSTAMP:20260420T053432
CREATED:20240308T133119Z
LAST-MODIFIED:20240329T133133Z
UID:3999-1709917200-1709928000@rajkot.bk.ooo
SUMMARY:Shiv Jayanti Mahotsav
DESCRIPTION:On Shiv Jayanti celebrated Shiv Jayanti Mahotsav. key points are\n– Flag hoisting by Rajyogini Bhartididiji and senior BK teachers\n– Alaukik(अलौकिक) birthday celebration of BK family with cake cutting\, deep realization and balloon activity\n– Rajyogini Bhartididiji gave blessings to all\n– 121ft Amarnath gufa darshan\n– Sahastraling darshan\n– Shiv Maha arti\n– Culture program was performed by popular and Radhika schools. Also\, gift given to all children participants. \n  \n    #bwg_container1_2 #bwg_container2_2 .bwg-container-2.bwg-standard-thumbnails {      width: 904px;      justify-content: center;              margin-left: auto;        margin-right: auto;              background-color: rgba(255\, 255\, 255\, 0.00);            padding-left: 4px;      padding-top: 4px;      max-width: 100%;            }        #bwg_container1_2 #bwg_container2_2 .bwg-container-2.bwg-standard-thumbnails .bwg-item {      justify-content: flex-start;      max-width: 180px;            width: 180px !important;          }    #bwg_container1_2 #bwg_container2_2 .bwg-container-2.bwg-standard-thumbnails .bwg-item > a {       margin-right: 4px;       margin-bottom: 4px;    }    #bwg_container1_2 #bwg_container2_2 .bwg-container-2.bwg-standard-thumbnails .bwg-item0 {      padding: 0px;      background-color: #FFFFFF;      border: 0px none #CCCCCC;      opacity: 1.00;      border-radius: 0;      box-shadow: 0px 0px 0px #888888;    }    #bwg_container1_2 #bwg_container2_2 .bwg-container-2.bwg-standard-thumbnails .bwg-item1 img {      max-height: none;      max-width: none;      padding: 0 !important;    }        @media only screen and (min-width: 480px) {      #bwg_container1_2 #bwg_container2_2 .bwg-container-2.bwg-standard-thumbnails .bwg-item0 {        transition: all 0.3s ease 0s;-webkit-transition: all 0.3s ease 0s;      }      #bwg_container1_2 #bwg_container2_2 .bwg-container-2.bwg-standard-thumbnails .bwg-item0:hover {        -ms-transform: scale(1.1);        -webkit-transform: scale(1.1);        transform: scale(1.1);      }    }          #bwg_container1_2 #bwg_container2_2 .bwg-container-2.bwg-standard-thumbnails .bwg-item1 {      padding-top: 50%;    }        #bwg_container1_2 #bwg_container2_2 .bwg-container-2.bwg-standard-thumbnails .bwg-title2\,    #bwg_container1_2 #bwg_container2_2 .bwg-container-2.bwg-standard-thumbnails .bwg-ecommerce2 {      color: #CCCCCC;      font-family: segoe ui;      font-size: 16px;      font-weight: bold;      padding: 2px;      text-shadow: 0px 0px 0px #888888;      max-height: 100%;    }    #bwg_container1_2 #bwg_container2_2 .bwg-container-2.bwg-standard-thumbnails .bwg-play-icon2 {      font-size: 32px;    }    #bwg_container1_2 #bwg_container2_2 .bwg-container-2.bwg-standard-thumbnails .bwg-ecommerce2 {      font-size: 19.2px;      color: #CCCCCC;    }                                                                                                                                                                                                                                                                                                                                                                                                                                                                                                                                                                                                                                                                                                                                                                                                                                                                                                                                                                                                                                                                                                                                                                                                                                                                                                                                                                                                                                                                                                                                                                                                                                                                                                                                                                                                                                                                                                                                                                                                                                                                                                                                                                                                                                                                                                                                                                                                                                                                                                                                                                                                                                                                                                                                                                                                                                                                                                                                                                                                                            /*pagination styles*/      #bwg_container1_2 #bwg_container2_2 .tablenav-pages_2 {      text-align: center;      font-size: 12px;      font-family: segoe ui;      font-weight: bold;      color: #666666;      margin: 6px 0 4px;      display: block;      height: 30px;      line-height: 30px;      }      @media only screen and (max-width : 320px) {      #bwg_container1_2 #bwg_container2_2 .displaying-num_2 {      display: none;      }      }      #bwg_container1_2 #bwg_container2_2 .displaying-num_2 {      font-size: 12px;      font-family: segoe ui;      font-weight: bold;      color: #666666;      margin-right: 10px;      vertical-align: middle;      }      #bwg_container1_2 #bwg_container2_2 .paging-input_2 {      font-size: 12px;      font-family: segoe ui;      font-weight: bold;      color: #666666;      vertical-align: middle;      }      #bwg_container1_2 #bwg_container2_2 .tablenav-pages_2 a.disabled\,      #bwg_container1_2 #bwg_container2_2 .tablenav-pages_2 a.disabled:hover\,      #bwg_container1_2 #bwg_container2_2 .tablenav-pages_2 a.disabled:focus {      cursor: default;      color: rgba(102\, 102\, 102\, 0.5);      }      #bwg_container1_2 #bwg_container2_2 .tablenav-pages_2 a {      cursor: pointer;      font-size: 12px;      font-family: segoe ui;      font-weight: bold;      color: #666666;      text-decoration: none;      padding: 3px 6px;      margin: 0;      border-radius: 0;      border-style: solid;      border-width: 1px;      border-color: #E3E3E3;      background-color: #FFFFFF;      opacity: 1.00;      box-shadow: 0;      transition: all 0.3s ease 0s;-webkit-transition: all 0.3s ease 0s;      }                                                    function spider_page_2(cur\, x\, y\, load_more) {        if (typeof load_more == "undefined") {          var load_more = false;        }        if (jQuery(cur).hasClass('disabled')) {          return false;        }        var items_county_2 = 1;        switch (y) {          case 1:            if (x >= items_county_2) {              document.getElementById('page_number_2').value = items_county_2;            }            else {              document.getElementById('page_number_2').value = x + 1;            }            break;          case 2:            document.getElementById('page_number_2').value = items_county_2;            break;          case -1:            if (x == 1) {              document.getElementById('page_number_2').value = 1;            }            else {              document.getElementById('page_number_2').value = x - 1;            }            break;          case -2:            document.getElementById('page_number_2').value = 1;            break;          default:            document.getElementById('page_number_2').value = 1;        }        bwg_ajax('gal_front_form_2'\, '2'\, 'bwg_thumbnails_2'\, '0'\, ''\, ''\, 0\, ''\, ''\, load_more);      }                jQuery('.first-page-2').on('click'\, function () {              spider_page_2(this\, 1\, -2\, 'numeric');          });          jQuery('.prev-page-2').on('click'\, function () {              spider_page_2(this\, 1\, -1\, 'numeric');              return false;          });          jQuery('.next-page-2').on('click'\, function () {              spider_page_2(this\, 1\, 1\, 'numeric');              return false;          });          jQuery('.last-page-2').on('click'\, function () {              spider_page_2(this\, 1\, 2\, 'numeric');          });            jQuery('.bwg_load_btn_2').on('click'\, function () {          spider_page_2(this\, 1\, 1\, true);          return false;      });                                                  #bwg_container1_2 #bwg_container2_2 #spider_popup_overlay_2 {          background-color: #000000;          opacity: 0.70;          }                                                                jQuery(document).ready(function () {        bwg_main_ready();      });        \n
URL:https://rajkot.bk.ooo/event/shiv-jayanti-mahotsav_8mar_2024/
ATTACH;FMTTYPE=image/jpeg:https://rajkot.bk.ooo/wp-content/uploads/sites/61/2024/03/Shiv-Jayanti-Mahotsav_8Mar_2024.jpg
END:VEVENT
END:VCALENDAR