BEGIN:VCALENDAR
VERSION:2.0
PRODID:-//Brahma Kumaris  Rajkot - ECPv4.9.3.2//NONSGML v1.0//EN
CALSCALE:GREGORIAN
METHOD:PUBLISH
X-WR-CALNAME:Brahma Kumaris  Rajkot
X-ORIGINAL-URL:https://rajkot.bk.ooo
X-WR-CALDESC:Events for Brahma Kumaris  Rajkot
BEGIN:VEVENT
DTSTART;TZID=Asia/Kolkata:20180408T100000
DTEND;TZID=Asia/Kolkata:20180408T123000
DTSTAMP:20260424T051354
CREATED:20180305T140949Z
LAST-MODIFIED:20180313T135210Z
UID:1050-1523181600-1523190600@rajkot.bk.ooo
SUMMARY:8 April 2018 \,BK Shivani : Creating My Destiny
DESCRIPTION: \n
URL:https://rajkot.bk.ooo/event/bk-shivani-creating-my-destiny/
LOCATION:Swaminarayan Temple\, Pramukh Swami Sabha Gruh\, Swaminarayan Temple\, Kalawad Road\,\,  Rajkot \, Gujarat\, 360004\, India
END:VEVENT
BEGIN:VEVENT
DTSTART;TZID=Asia/Kolkata:20180408T170000
DTEND;TZID=Asia/Kolkata:20180408T190000
DTSTAMP:20260424T051354
CREATED:20180313T055606Z
LAST-MODIFIED:20180313T140204Z
UID:1109-1523206800-1523214000@rajkot.bk.ooo
SUMMARY:8 April 2018\,Rajkot: Feeling is Healing By BK Shivani
DESCRIPTION: \n
URL:https://rajkot.bk.ooo/event/bk-shivani-feeling-is-healing/
LOCATION:Pramukh Swami Auditorium\, Pramukh Swami Auditorium\, Raiya Road\, Rajkot\, Gujarat\, 360001\, India
ATTACH;FMTTYPE=image/jpeg:https://rajkot.bk.ooo/wp-content/uploads/sites/61/2018/03/Doctor_clickhere1-800x800.jpg
END:VEVENT
END:VCALENDAR