BEGIN:VCALENDAR
VERSION:2.0
PRODID:-//Brahma Kumaris  Rajkot - ECPv4.9.3.2//NONSGML v1.0//EN
CALSCALE:GREGORIAN
METHOD:PUBLISH
X-WR-CALNAME:Brahma Kumaris  Rajkot
X-ORIGINAL-URL:https://rajkot.bk.ooo
X-WR-CALDESC:Events for Brahma Kumaris  Rajkot
BEGIN:VEVENT
DTSTART;TZID=Asia/Kolkata:20260419T200000
DTEND;TZID=Asia/Kolkata:20260419T220000
DTSTAMP:20260420T210415
CREATED:20260419T174835Z
LAST-MODIFIED:20260420T174845Z
UID:6301-1776628800-1776636000@rajkot.bk.ooo
SUMMARY:Seminar_19Apr_2026
DESCRIPTION:Seminar was organized on secret of happiness; points cover by BK sisters as follow\n– Conducted topics on happiness of body\, mind and money by sharing spiritual knowledge\n– Also gave introduction on Sangam Project and got everyone to pledge\n– Got everyone aware by doing some exercise and all together did dance\n– At last\, all took juice \n  \n    #bwg_container1_0 #bwg_container2_0 .bwg-container-0.bwg-standard-thumbnails {      width: 904px;      justify-content: center;              margin-left: auto;        margin-right: auto;              background-color: rgba(255\, 255\, 255\, 0.00);            padding-left: 4px;      padding-top: 4px;      max-width: 100%;            }        #bwg_container1_0 #bwg_container2_0 .bwg-container-0.bwg-standard-thumbnails .bwg-item {      justify-content: flex-start;      max-width: 180px;            width: 180px !important;          }    #bwg_container1_0 #bwg_container2_0 .bwg-container-0.bwg-standard-thumbnails .bwg-item > a {       margin-right: 4px;       margin-bottom: 4px;    }    #bwg_container1_0 #bwg_container2_0 .bwg-container-0.bwg-standard-thumbnails .bwg-item0 {      padding: 0px;      background-color: #FFFFFF;      border: 0px none #CCCCCC;      opacity: 1.00;      border-radius: 0;      box-shadow: 0px 0px 0px #888888;    }    #bwg_container1_0 #bwg_container2_0 .bwg-container-0.bwg-standard-thumbnails .bwg-item1 img {      max-height: none;      max-width: none;      padding: 0 !important;    }        @media only screen and (min-width: 480px) {      #bwg_container1_0 #bwg_container2_0 .bwg-container-0.bwg-standard-thumbnails .bwg-item0 {        transition: all 0.3s ease 0s;-webkit-transition: all 0.3s ease 0s;      }      #bwg_container1_0 #bwg_container2_0 .bwg-container-0.bwg-standard-thumbnails .bwg-item0:hover {        -ms-transform: scale(1.1);        -webkit-transform: scale(1.1);        transform: scale(1.1);      }    }          #bwg_container1_0 #bwg_container2_0 .bwg-container-0.bwg-standard-thumbnails .bwg-item1 {      padding-top: 50%;    }        #bwg_container1_0 #bwg_container2_0 .bwg-container-0.bwg-standard-thumbnails .bwg-title2\,    #bwg_container1_0 #bwg_container2_0 .bwg-container-0.bwg-standard-thumbnails .bwg-ecommerce2 {      color: #CCCCCC;      font-family: segoe ui;      font-size: 16px;      font-weight: bold;      padding: 2px;      text-shadow: 0px 0px 0px #888888;      max-height: 100%;    }    #bwg_container1_0 #bwg_container2_0 .bwg-container-0.bwg-standard-thumbnails .bwg-play-icon2 {      font-size: 32px;    }    #bwg_container1_0 #bwg_container2_0 .bwg-container-0.bwg-standard-thumbnails .bwg-ecommerce2 {      font-size: 19.2px;      color: #CCCCCC;    }                                                                                                                                                                                                                                                                                                                                                                                                                                                                                                                                                                                                                                                                                                                                                                                                                                                                                                                                                                                                                                                                                                                                                                                                                                                                                                                                                                                                                                                                                                                                                                                                                                                                                                                                                                                                                                                                                                                                                                                              /*pagination styles*/      #bwg_container1_0 #bwg_container2_0 .tablenav-pages_0 {      text-align: center;      font-size: 12px;      font-family: segoe ui;      font-weight: bold;      color: #666666;      margin: 6px 0 4px;      display: block;      height: 30px;      line-height: 30px;      }      @media only screen and (max-width : 320px) {      #bwg_container1_0 #bwg_container2_0 .displaying-num_0 {      display: none;      }      }      #bwg_container1_0 #bwg_container2_0 .displaying-num_0 {      font-size: 12px;      font-family: segoe ui;      font-weight: bold;      color: #666666;      margin-right: 10px;      vertical-align: middle;      }      #bwg_container1_0 #bwg_container2_0 .paging-input_0 {      font-size: 12px;      font-family: segoe ui;      font-weight: bold;      color: #666666;      vertical-align: middle;      }      #bwg_container1_0 #bwg_container2_0 .tablenav-pages_0 a.disabled\,      #bwg_container1_0 #bwg_container2_0 .tablenav-pages_0 a.disabled:hover\,      #bwg_container1_0 #bwg_container2_0 .tablenav-pages_0 a.disabled:focus {      cursor: default;      color: rgba(102\, 102\, 102\, 0.5);      }      #bwg_container1_0 #bwg_container2_0 .tablenav-pages_0 a {      cursor: pointer;      font-size: 12px;      font-family: segoe ui;      font-weight: bold;      color: #666666;      text-decoration: none;      padding: 3px 6px;      margin: 0;      border-radius: 0;      border-style: solid;      border-width: 1px;      border-color: #E3E3E3;      background-color: #FFFFFF;      opacity: 1.00;      box-shadow: 0;      transition: all 0.3s ease 0s;-webkit-transition: all 0.3s ease 0s;      }                                                    function spider_page_0(cur\, x\, y\, load_more) {        if (typeof load_more == "undefined") {          var load_more = false;        }        if (jQuery(cur).hasClass('disabled')) {          return false;        }        var items_county_0 = 1;        switch (y) {          case 1:            if (x >= items_county_0) {              document.getElementById('page_number_0').value = items_county_0;            }            else {              document.getElementById('page_number_0').value = x + 1;            }            break;          case 2:            document.getElementById('page_number_0').value = items_county_0;            break;          case -1:            if (x == 1) {              document.getElementById('page_number_0').value = 1;            }            else {              document.getElementById('page_number_0').value = x - 1;            }            break;          case -2:            document.getElementById('page_number_0').value = 1;            break;          default:            document.getElementById('page_number_0').value = 1;        }        bwg_ajax('gal_front_form_0'\, '0'\, 'bwg_thumbnails_0'\, '0'\, ''\, ''\, 0\, ''\, ''\, load_more);      }                jQuery('.first-page-0').on('click'\, function () {              spider_page_0(this\, 1\, -2\, 'numeric');          });          jQuery('.prev-page-0').on('click'\, function () {              spider_page_0(this\, 1\, -1\, 'numeric');              return false;          });          jQuery('.next-page-0').on('click'\, function () {              spider_page_0(this\, 1\, 1\, 'numeric');              return false;          });          jQuery('.last-page-0').on('click'\, function () {              spider_page_0(this\, 1\, 2\, 'numeric');          });            jQuery('.bwg_load_btn_0').on('click'\, function () {          spider_page_0(this\, 1\, 1\, true);          return false;      });                                                  #bwg_container1_0 #bwg_container2_0 #spider_popup_overlay_0 {          background-color: #000000;          opacity: 0.70;          }                                                                jQuery(document).ready(function () {        bwg_main_ready();      });        \n
URL:https://rajkot.bk.ooo/event/seminar_19apr_2026/
ATTACH;FMTTYPE=image/jpeg:https://rajkot.bk.ooo/wp-content/uploads/sites/61/2026/04/Seminar_19Apr_2026.jpeg
END:VEVENT
END:VCALENDAR